BEGIN:VCALENDAR
PRODID:-//Cornell Cooperative Extension of St. Lawrence County//NONSGML Cornell Cooperative Extension of St. Lawrence County Events//EN
X-ORIGINAL-URL:
VERSION:2.0
CALSCALE:GREGORIAN
METHOD:PUBLISH
BEGIN:VEVENT
METHOD: PUBLISH
X-MS-OLK-FORCEINSPECTOROPEN:TRUE
DTSTART:20240315T090900
DTEND:20240315T130100
SUMMARY:Fuel Your Family Festival
DTSTAMP:20110121T170000
LAST-MODIFIED:20240227T140219
CREATED:20240226T121222
SEQUENCE:0
TRANSP:TRANSPARENT
UID:27085
LOCATION:
URL:http://stlawrence.cce.cornell.edu/events/2024/03/15/fuel-your-family-festival
DESCRIPTION: 	Join us for a fun filled day celebrating National Nutrition Month with games, live music, prizes, activities, and more!&amp;nbsp; 	
CLASS:PUBLIC
CATEGORIES:
STATUS:CONFIRMED
END:VEVENT
END:VCALENDAR
n/a