BEGIN:VCALENDAR
PRODID:-//Cornell Cooperative Extension of St. Lawrence County//NONSGML Cornell Cooperative Extension of St. Lawrence County Events//EN
X-ORIGINAL-URL:
VERSION:2.0
CALSCALE:GREGORIAN
METHOD:PUBLISH
BEGIN:VEVENT
METHOD: PUBLISH
X-MS-OLK-FORCEINSPECTOROPEN:TRUE
DTSTART:20260519T180600
DTEND:20260519T190700
SUMMARY:Small Ruminant Parasite Basics
DTSTAMP:20110121T170000
LAST-MODIFIED:20260413T130133
CREATED:20200818T160448
SEQUENCE:0
TRANSP:TRANSPARENT
UID:17944
LOCATION:
URL:http://stlawrence.cce.cornell.edu/events/2020/08/25/small-ruminant-parasite-basics
DESCRIPTION:Managing parasites on a small ruminant farm can be a real challenge.  Join Dr. Johanna Kinglsey and Carmen Hostetter, Commercial Livestock Educator, to learn about the different types of parasites that are a challenge for sheep and goat operations. Dewormer resistance can be a challenge but can be minimized through proper management strategies.There will be time in the evening to network with the other small ruminant owners.&amp;nbsp;
CLASS:PUBLIC
CATEGORIES:
STATUS:CONFIRMED
END:VEVENT
END:VCALENDAR
n/a